BEGIN:VCALENDAR
VERSION:2.0
PRODID:-//Pakita Studio - ECPv6.15.20//NONSGML v1.0//EN
CALSCALE:GREGORIAN
METHOD:PUBLISH
X-WR-CALNAME:Pakita Studio
X-ORIGINAL-URL:https://pakitastudio.com
X-WR-CALDESC:Events for Pakita Studio
REFRESH-INTERVAL;VALUE=DURATION:PT1H
X-Robots-Tag:noindex
X-PUBLISHED-TTL:PT1H
BEGIN:VTIMEZONE
TZID:Europe/Paris
BEGIN:DAYLIGHT
TZOFFSETFROM:+0100
TZOFFSETTO:+0200
TZNAME:CEST
DTSTART:20240331T010000
END:DAYLIGHT
BEGIN:STANDARD
TZOFFSETFROM:+0200
TZOFFSETTO:+0100
TZNAME:CET
DTSTART:20241027T010000
END:STANDARD
BEGIN:DAYLIGHT
TZOFFSETFROM:+0100
TZOFFSETTO:+0200
TZNAME:CEST
DTSTART:20250330T010000
END:DAYLIGHT
BEGIN:STANDARD
TZOFFSETFROM:+0200
TZOFFSETTO:+0100
TZNAME:CET
DTSTART:20251026T010000
END:STANDARD
BEGIN:DAYLIGHT
TZOFFSETFROM:+0100
TZOFFSETTO:+0200
TZNAME:CEST
DTSTART:20260329T010000
END:DAYLIGHT
BEGIN:STANDARD
TZOFFSETFROM:+0200
TZOFFSETTO:+0100
TZNAME:CET
DTSTART:20261025T010000
END:STANDARD
END:VTIMEZONE
BEGIN:VEVENT
DTSTART;TZID=Europe/Paris:20251222T180000
DTEND;TZID=Europe/Paris:20251222T190000
DTSTAMP:20260420T191347
CREATED:20250921T180735Z
LAST-MODIFIED:20251211T171448Z
UID:1696-1766426400-1766430000@pakitastudio.com
SUMMARY:Ipuin kontaketa
DESCRIPTION:Amesgile Argitaletxeak ipuin berriak atera ditu. Beraz\, beste askotan bezala\, ipuin kontaketa antolatu dugu estudioan. Betzaidak berak idatzitako ipuinak kontatuko dizkigu\, labetik atera berriak! Ondoren\, bertan egongo da bere lan guztiak saltzen. \nGainera\, oraingoan marrazketa saio bat ere egingo dugu ipuinetako marrazkiak koloreztatzeko. \nDoakoa da\, baina izena eman behar da\, aforoa bete arte. Horretarako idatzi p.kitastudio@gmail.com helbidera.
URL:https://pakitastudio.com/ekitaldiak/ipuin-kontaketa-8
LOCATION:Pakita Studio\, Andre Kalea 41\, Hernani\, Gipuzkoa\, 20120\, España
CATEGORIES:Jardunaldia
ATTACH;FMTTYPE=image/jpeg:https://pakitastudio.com/wp-content/uploads/2025/09/WEB-scaled.jpg
ORGANIZER;CN="Pakita Studio":MAILTO:p.kitastudio@gmail.com
END:VEVENT
END:VCALENDAR