BEGIN:VCALENDAR
VERSION:2.0
PRODID:-//Pakita Studio - ECPv6.15.20//NONSGML v1.0//EN
CALSCALE:GREGORIAN
METHOD:PUBLISH
X-WR-CALNAME:Pakita Studio
X-ORIGINAL-URL:https://pakitastudio.com
X-WR-CALDESC:Events for Pakita Studio
REFRESH-INTERVAL;VALUE=DURATION:PT1H
X-Robots-Tag:noindex
X-PUBLISHED-TTL:PT1H
BEGIN:VTIMEZONE
TZID:Europe/Paris
BEGIN:DAYLIGHT
TZOFFSETFROM:+0100
TZOFFSETTO:+0200
TZNAME:CEST
DTSTART:20240331T010000
END:DAYLIGHT
BEGIN:STANDARD
TZOFFSETFROM:+0200
TZOFFSETTO:+0100
TZNAME:CET
DTSTART:20241027T010000
END:STANDARD
BEGIN:DAYLIGHT
TZOFFSETFROM:+0100
TZOFFSETTO:+0200
TZNAME:CEST
DTSTART:20250330T010000
END:DAYLIGHT
BEGIN:STANDARD
TZOFFSETFROM:+0200
TZOFFSETTO:+0100
TZNAME:CET
DTSTART:20251026T010000
END:STANDARD
BEGIN:DAYLIGHT
TZOFFSETFROM:+0100
TZOFFSETTO:+0200
TZNAME:CEST
DTSTART:20260329T010000
END:DAYLIGHT
BEGIN:STANDARD
TZOFFSETFROM:+0200
TZOFFSETTO:+0100
TZNAME:CET
DTSTART:20261025T010000
END:STANDARD
END:VTIMEZONE
BEGIN:VEVENT
DTSTART;TZID=Europe/Paris:20251226T110000
DTEND;TZID=Europe/Paris:20251226T123000
DTSTAMP:20260420T184004
CREATED:20251204T185430Z
LAST-MODIFIED:20251204T185455Z
UID:1742-1766746800-1766752200@pakitastudio.com
SUMMARY:Zigiluekin estanpazio
DESCRIPTION:Sormen tailer honetan zigiluen bitartez motxila bat estanpatuko dugu. Askotariko zigiluak izango ditugu: loreak\, animaliak\, forma abstraktuak… eta koloreak ere mordoa. Beraz\, hauen arteko konbinaketaren bitartez sortuko dugu gure motxilaren diseinua. Kolore eta formen arteko lanketa izango da tailerraren oinarria. \nAdina: 5 urtetik gora\nPrezioa: 35€\nIzen ematea: p.kitastudio@gmail.com helbidera korreo bat idatzi
URL:https://pakitastudio.com/ekitaldiak/zigiluekin-estanpazioa
LOCATION:Pakita Studio\, Andre Kalea 41\, Hernani\, Gipuzkoa\, 20120\, España
CATEGORIES:Tailerra
ATTACH;FMTTYPE=image/jpeg:https://pakitastudio.com/wp-content/uploads/2025/12/HORIZONTALA-2-scaled.jpg
ORGANIZER;CN="Pakita Studio":MAILTO:p.kitastudio@gmail.com
END:VEVENT
BEGIN:VEVENT
DTSTART;TZID=Europe/Paris:20251226T170000
DTEND;TZID=Europe/Paris:20251226T193000
DTSTAMP:20260420T184004
CREATED:20251204T184319Z
LAST-MODIFIED:20251204T185013Z
UID:1733-1766768400-1766777400@pakitastudio.com
SUMMARY:3D bitxigintza tailerra
DESCRIPTION:Bihurriren bitartez 3D bitxigintza tailer bat antolatuko dugu. Saio honetan gure belarritako propioak diseinatuko ditugu. Tailerra zati ezberdinetan banatuta dago: lehenengo zatian gure diseinua sortuko dugu paperean. Ondoren\, gure diseinua digitalizatu eta 3D formatuan bilakatuko dugu modu erraz eta sinplean. Azkenik\, diseinuetako batzuk inprimatuko ditugu eta inprimagailuak nola funtzionatzen duen ezagutuko dugu. \nPrezioa: 55€ (egunean bertan ordainduko da) \nIzen ematea: p.kitastudio@gmail.com helbidera mezu bat idatzi \nOhar garrantzitsuak:\n1. Saiorako ordenagailua ekarri behar da. Aurreko egunetan ordenagailuan eduki beharreko doako programa bat instalatu behar dugu. Hala ere ez da programaren edota 3D ezagutzarik eduki behar.\n2. Ordenagailuaz gain xagua ere ekarri behar da.\n3.  Saioetan ezin izango dira parte-hartzaileen belarritako guztiak inprimatu. Soilik pare bat diseinu inprimatuko dira. Gainontzekoak hurrengo egunetan jaso ahal izango dira estudioan bertan.
URL:https://pakitastudio.com/ekitaldiak/3d-bitxigintza-tailerra
LOCATION:Pakita Studio\, Andre Kalea 41\, Hernani\, Gipuzkoa\, 20120\, España
CATEGORIES:Tailerra
ATTACH;FMTTYPE=image/jpeg:https://pakitastudio.com/wp-content/uploads/2025/12/HORIZONTALA-scaled.jpg
ORGANIZER;CN="Pakita Studio":MAILTO:p.kitastudio@gmail.com
END:VEVENT
END:VCALENDAR