BEGIN:VCALENDAR
VERSION:2.0
PRODID:-//Pakita Studio - ECPv6.15.20//NONSGML v1.0//EN
CALSCALE:GREGORIAN
METHOD:PUBLISH
X-WR-CALNAME:Pakita Studio
X-ORIGINAL-URL:https://pakitastudio.com
X-WR-CALDESC:Events for Pakita Studio
REFRESH-INTERVAL;VALUE=DURATION:PT1H
X-Robots-Tag:noindex
X-PUBLISHED-TTL:PT1H
BEGIN:VTIMEZONE
TZID:Europe/Paris
BEGIN:DAYLIGHT
TZOFFSETFROM:+0100
TZOFFSETTO:+0200
TZNAME:CEST
DTSTART:20240331T010000
END:DAYLIGHT
BEGIN:STANDARD
TZOFFSETFROM:+0200
TZOFFSETTO:+0100
TZNAME:CET
DTSTART:20241027T010000
END:STANDARD
BEGIN:DAYLIGHT
TZOFFSETFROM:+0100
TZOFFSETTO:+0200
TZNAME:CEST
DTSTART:20250330T010000
END:DAYLIGHT
BEGIN:STANDARD
TZOFFSETFROM:+0200
TZOFFSETTO:+0100
TZNAME:CET
DTSTART:20251026T010000
END:STANDARD
BEGIN:DAYLIGHT
TZOFFSETFROM:+0100
TZOFFSETTO:+0200
TZNAME:CEST
DTSTART:20260329T010000
END:DAYLIGHT
BEGIN:STANDARD
TZOFFSETFROM:+0200
TZOFFSETTO:+0100
TZNAME:CET
DTSTART:20261025T010000
END:STANDARD
END:VTIMEZONE
BEGIN:VEVENT
DTSTART;TZID=Europe/Paris:20251227T110000
DTEND;TZID=Europe/Paris:20251227T133000
DTSTAMP:20260420T184002
CREATED:20251204T184958Z
LAST-MODIFIED:20251204T184958Z
UID:1739-1766833200-1766842200@pakitastudio.com
SUMMARY:3D bitxigintza tailerra
DESCRIPTION:Bihurriren bitartez 3D bitxigintza tailer bat antolatuko dugu. Saio honetan gure belarritako propioak diseinatuko ditugu. Tailerra zati ezberdinetan banatuta dago: lehenengo zatian gure diseinua sortuko dugu paperean. Ondoren\, gure diseinua digitalizatu eta 3D formatuan bilakatuko dugu modu erraz eta sinplean. Azkenik\, diseinuetako batzuk inprimatuko ditugu eta inprimagailuak nola funtzionatzen duen ezagutuko dugu. \nPrezioa: 55€ (egunean bertan ordainduko da) \nIzen ematea: p.kitastudio@gmail.com helbidera mezu bat idatzi \nOhar garrantzitsuak:\n1. Saiorako ordenagailua ekarri behar da. Aurreko egunetan ordenagailuan eduki beharreko doako programa bat instalatu behar dugu. Hala ere ez da programaren edota 3D ezagutzarik eduki behar.\n2. Ordenagailuaz gain xagua ere ekarri behar da.\n3.  Saioetan ezin izango dira parte-hartzaileen belarritako guztiak inprimatu. Soilik pare bat diseinu inprimatuko dira. Gainontzekoak hurrengo egunetan jaso ahal izango dira estudioan bertan.
URL:https://pakitastudio.com/ekitaldiak/3d-bitxigintza-tailerra-2
LOCATION:Pakita Studio\, Andre Kalea 41\, Hernani\, Gipuzkoa\, 20120\, España
CATEGORIES:Tailerra
ATTACH;FMTTYPE=image/jpeg:https://pakitastudio.com/wp-content/uploads/2025/12/HORIZONTALA-scaled.jpg
ORGANIZER;CN="Pakita Studio":MAILTO:p.kitastudio@gmail.com
END:VEVENT
END:VCALENDAR