BEGIN:VCALENDAR
VERSION:2.0
PRODID:-//Pakita Studio - ECPv6.15.20//NONSGML v1.0//EN
CALSCALE:GREGORIAN
METHOD:PUBLISH
X-ORIGINAL-URL:https://pakitastudio.com
X-WR-CALDESC:Events for Pakita Studio
REFRESH-INTERVAL;VALUE=DURATION:PT1H
X-Robots-Tag:noindex
X-PUBLISHED-TTL:PT1H
BEGIN:VTIMEZONE
TZID:Europe/Paris
BEGIN:DAYLIGHT
TZOFFSETFROM:+0100
TZOFFSETTO:+0200
TZNAME:CEST
DTSTART:20230326T010000
END:DAYLIGHT
BEGIN:STANDARD
TZOFFSETFROM:+0200
TZOFFSETTO:+0100
TZNAME:CET
DTSTART:20231029T010000
END:STANDARD
BEGIN:DAYLIGHT
TZOFFSETFROM:+0100
TZOFFSETTO:+0200
TZNAME:CEST
DTSTART:20240331T010000
END:DAYLIGHT
BEGIN:STANDARD
TZOFFSETFROM:+0200
TZOFFSETTO:+0100
TZNAME:CET
DTSTART:20241027T010000
END:STANDARD
BEGIN:DAYLIGHT
TZOFFSETFROM:+0100
TZOFFSETTO:+0200
TZNAME:CEST
DTSTART:20250330T010000
END:DAYLIGHT
BEGIN:STANDARD
TZOFFSETFROM:+0200
TZOFFSETTO:+0100
TZNAME:CET
DTSTART:20251026T010000
END:STANDARD
END:VTIMEZONE
BEGIN:VEVENT
DTSTART;TZID=Europe/Paris:20241005T110000
DTEND;TZID=Europe/Paris:20241108T110000
DTSTAMP:20260425T193140
CREATED:20241010T065415Z
LAST-MODIFIED:20241010T065415Z
UID:1541-1728126000-1731063600@pakitastudio.com
SUMMARY:PERIFERIATIK ERDIGUNERA erakusketa
DESCRIPTION:Basoko Maxuxta artistaren Periferiatik Erdigunera erakusketarekin ireki dugu berriro ere estudioa. Sara Etxeberriak bere Gradu Amaierako Lanean egindako margolanek osatzen dute erakusketa. Gorputzak dira erakusketaren elementu nagusienetako bat. Hauek zentroan jarri ditu mihise handi eta koloretsuetan. \nKolorearen lanketa zoragarriarekin\, negatibo eta positiboaren jolasa proposatzen digu. Horrela\, mugikorreko kameratik filtro negatibo batekin begiratuta\, begien bidez ikusten ditugun koloreen kontrakoak ikusiko ditugu pantailan\, batzuetan\, gorputz hauen azal kolorea errealitatera hurbilaraziz.  \nErakusketa denda irekita dagoen momentuetan ikusi ahal izango da.
URL:https://pakitastudio.com/ekitaldiak/periferiatik-erdigunera-erakusketa
LOCATION:Pakita Studio\, Andre Kalea 41\, Hernani\, Gipuzkoa\, 20120\, España
CATEGORIES:Erakusketa
ATTACH;FMTTYPE=image/jpeg:https://pakitastudio.com/wp-content/uploads/2024/10/BASOKO-MAXUXTA-ERAKUSKETA-02-scaled.jpg
ORGANIZER;CN="Pakita Studio":MAILTO:p.kitastudio@gmail.com
END:VEVENT
BEGIN:VEVENT
DTSTART;TZID=Europe/Paris:20241116T110000
DTEND;TZID=Europe/Paris:20241116T120000
DTSTAMP:20260425T193140
CREATED:20241111T090355Z
LAST-MODIFIED:20241111T090355Z
UID:1544-1731754800-1731758400@pakitastudio.com
SUMMARY:Ipuin kontaketa
DESCRIPTION:Amesgile Argitaletxeak ipuin berriak atera ditu. Beraz\, beste askotan bezala\, ipuin kontaketa antolatu dugu estudioan. Betzaidak berak idatzitako ipuinak kontatuko dizkigu\, labetik atera berriak! Ondoren\, bertan egongo da bere lan guztiak saltzen. Hurbildu bertara\, goiz goxo bat pasako dugu. \nDoakoa da\, baina izena eman behar da\, aforoa bete arte. Horretarako idatzi p.kitastudio@gmail.com helbidera.
URL:https://pakitastudio.com/ekitaldiak/ipuin-kontaketa-7
LOCATION:Pakita Studio\, Andre Kalea 41\, Hernani\, Gipuzkoa\, 20120\, España
CATEGORIES:Jardunaldia
ATTACH;FMTTYPE=image/jpeg:https://pakitastudio.com/wp-content/uploads/2024/11/IPUIN-KONTAKETA-02-scaled.jpg
END:VEVENT
END:VCALENDAR