BEGIN:VCALENDAR
VERSION:2.0
PRODID:-//Pakita Studio - ECPv6.15.20//NONSGML v1.0//EN
CALSCALE:GREGORIAN
METHOD:PUBLISH
X-WR-CALNAME:Pakita Studio
X-ORIGINAL-URL:https://pakitastudio.com
X-WR-CALDESC:Events for Pakita Studio
REFRESH-INTERVAL;VALUE=DURATION:PT1H
X-Robots-Tag:noindex
X-PUBLISHED-TTL:PT1H
BEGIN:VTIMEZONE
TZID:Europe/Paris
BEGIN:DAYLIGHT
TZOFFSETFROM:+0100
TZOFFSETTO:+0200
TZNAME:CEST
DTSTART:20210328T010000
END:DAYLIGHT
BEGIN:STANDARD
TZOFFSETFROM:+0200
TZOFFSETTO:+0100
TZNAME:CET
DTSTART:20211031T010000
END:STANDARD
BEGIN:DAYLIGHT
TZOFFSETFROM:+0100
TZOFFSETTO:+0200
TZNAME:CEST
DTSTART:20220327T010000
END:DAYLIGHT
BEGIN:STANDARD
TZOFFSETFROM:+0200
TZOFFSETTO:+0100
TZNAME:CET
DTSTART:20221030T010000
END:STANDARD
BEGIN:DAYLIGHT
TZOFFSETFROM:+0100
TZOFFSETTO:+0200
TZNAME:CEST
DTSTART:20230326T010000
END:DAYLIGHT
BEGIN:STANDARD
TZOFFSETFROM:+0200
TZOFFSETTO:+0100
TZNAME:CET
DTSTART:20231029T010000
END:STANDARD
BEGIN:DAYLIGHT
TZOFFSETFROM:+0100
TZOFFSETTO:+0200
TZNAME:CEST
DTSTART:20240331T010000
END:DAYLIGHT
BEGIN:STANDARD
TZOFFSETFROM:+0200
TZOFFSETTO:+0100
TZNAME:CET
DTSTART:20241027T010000
END:STANDARD
END:VTIMEZONE
BEGIN:VEVENT
DTSTART;VALUE=DATE:20230613
DTEND;VALUE=DATE:20230623
DTSTAMP:20260421T061004
CREATED:20230614T082923Z
LAST-MODIFIED:20230614T082923Z
UID:1210-1686614400-1687478399@pakitastudio.com
SUMMARY:Sormen tailerren ikasleen lanak erakusketa
DESCRIPTION:Ikasturte guztian zehar sormen tailerretan egindako lanak bildu eta erakusketa antolatu dugu Pakita Studioko ikasleekin. Bi astez ikusgai egongo dira lan hauek. Hurrengo ikasturtean egingo diren lanen ideia bat ere egin daiteke erakusketarekin bitartez: serigrafiatutako laminak\, akrilikoarekin pintatutako mihiseak\, eta beste hainbeste gauza!
URL:https://pakitastudio.com/ekitaldiak/sormen-tailerren-ikasleen-lanak-erakusketa
LOCATION:Pakita Studio\, Andre Kalea 41\, Hernani\, Gipuzkoa\, 20120\, España
CATEGORIES:Erakusketa
ATTACH;FMTTYPE=image/jpeg:https://pakitastudio.com/wp-content/uploads/2023/06/HAURRAK-ERAKUSKETA-02-scaled.jpg
ORGANIZER;CN="Pakita Studio":MAILTO:p.kitastudio@gmail.com
END:VEVENT
BEGIN:VEVENT
DTSTART;TZID=Europe/Paris:20230520T110000
DTEND;TZID=Europe/Paris:20230520T120000
DTSTAMP:20260421T061004
CREATED:20230515T083127Z
LAST-MODIFIED:20230515T083127Z
UID:1157-1684580400-1684584000@pakitastudio.com
SUMMARY:Ipuin kontaketa
DESCRIPTION:Amesgile Argitaletxearen eskutik ipuin kontaketa antolatu dugu berriro ere estudioan. Betzaidak berak idatzitako ipuinak kontatuko dizkigu eta ondoren bertan egongo da bere lan guztiak saltzen. Hurbildu bertara\, goiz goxo bat pasako dugu. \nDoakoa izango da\, baina izena eman behar da\, aforoa bete arte. Horretarako idatzi p.kitastudio@gmail.com helbidera.
URL:https://pakitastudio.com/ekitaldiak/ipuin-kontaketa-4
LOCATION:Pakita Studio\, Andre Kalea 41\, Hernani\, Gipuzkoa\, 20120\, España
CATEGORIES:Jardunaldia
ATTACH;FMTTYPE=image/jpeg:https://pakitastudio.com/wp-content/uploads/2023/05/Amesgile-ipuin-kontaketa-Recuperado-02-scaled.jpg
END:VEVENT
BEGIN:VEVENT
DTSTART;TZID=Europe/Paris:20230414T180000
DTEND;TZID=Europe/Paris:20230414T200000
DTSTAMP:20260421T061004
CREATED:20230330T153607Z
LAST-MODIFIED:20230413T110719Z
UID:1117-1681495200-1681502400@pakitastudio.com
SUMMARY:Pintura + Garagardoa • BETETA
DESCRIPTION:Sormen saio honetan pinturarekin esperimentatzea bilatzen da garagardo artean tarte goxo bat sortuaz. Otsaihen\, Hernaniko garagardo artisauaren* aukera ezberdinak dastatuz mihise bat pintura akrilikoz pintatuko dugu. \nSaio honetan parte hartzeko ez da lehendik pintura jakintzarik eduki behar\, esperimentazio tailer bat izango da. \nIzena eman behar da: p.kitastudio@gmail.com \n*Gluten gabeko garagardoa ere egongo da \n 
URL:https://pakitastudio.com/ekitaldiak/pintura-garagardoa
LOCATION:Pakita Studio\, Andre Kalea 41\, Hernani\, Gipuzkoa\, 20120\, España
CATEGORIES:Tailerra
ATTACH;FMTTYPE=image/jpeg:https://pakitastudio.com/wp-content/uploads/2023/03/PINTURA-ZERBEZA-02-scaled.jpg
ORGANIZER;CN="Pakita Studio":MAILTO:p.kitastudio@gmail.com
END:VEVENT
BEGIN:VEVENT
DTSTART;TZID=Europe/Paris:20230414T110000
DTEND;TZID=Europe/Paris:20230414T130000
DTSTAMP:20260421T061004
CREATED:20230329T141716Z
LAST-MODIFIED:20230329T141716Z
UID:1113-1681470000-1681477200@pakitastudio.com
SUMMARY:Kamiseta diseinu tailerra
DESCRIPTION:Sormen saio honetan sorkuntza modu ezberdin batean esperimentatu nahi da: gure kamiseta propioa diseinatuz. Kolore askotako biniloak erabiliz\, haur bakoitzak bere irudiak moztu eta kamisetara eramango ditu. Binilo hauek telarako sortuak daude eta modu termikoan pegatzen dira kamisetan. Horrela\, parte hartzaileek beraien irudiak biniloan moztu eta plantxa termikoarekin egingo ditugu kamisetak (beti bideratzailearekin lagunduta). \n7 urtetik gorako haurrentzat.\nIzena ematea irekita plazak bete arte: p.kitastudio@gmail.com
URL:https://pakitastudio.com/ekitaldiak/kamiseta-diseinu-tailerra
LOCATION:Pakita Studio\, Andre Kalea 41\, Hernani\, Gipuzkoa\, 20120\, España
CATEGORIES:Tailerra
ATTACH;FMTTYPE=image/jpeg:https://pakitastudio.com/wp-content/uploads/2023/03/kamiseta-02-scaled.jpg
ORGANIZER;CN="Pakita Studio":MAILTO:p.kitastudio@gmail.com
END:VEVENT
BEGIN:VEVENT
DTSTART;TZID=Europe/Paris:20230413T110000
DTEND;TZID=Europe/Paris:20230413T123000
DTSTAMP:20260421T061004
CREATED:20230329T141219Z
LAST-MODIFIED:20230330T151128Z
UID:1110-1681383600-1681389000@pakitastudio.com
SUMMARY:Sormen tailerra: pintura eskuekin
DESCRIPTION:Sormen saio honetan sorkuntzarekin jolastuko dugu pintura akrilikoak erabiliz. Materialekin esperimentatu\, zikindu\, mihise zuri bat kolorez bete. Pintura modu jostagarri batean ezagutzea izango da helburua. \n3 urtetik 6 urtera arteko haurrentzat.\nIzena ematea irekita plazak bete arte: p.kitastudio@gmail.com
URL:https://pakitastudio.com/ekitaldiak/sormen-tailerra-pintura-eskuekin
LOCATION:Pakita Studio\, Andre Kalea 41\, Hernani\, Gipuzkoa\, 20120\, España
CATEGORIES:Tailerra
ATTACH;FMTTYPE=image/jpeg:https://pakitastudio.com/wp-content/uploads/2023/03/PINTURA-02-scaled.jpg
ORGANIZER;CN="Pakita Studio":MAILTO:p.kitastudio@gmail.com
END:VEVENT
BEGIN:VEVENT
DTSTART;TZID=Europe/Paris:20230405T180000
DTEND;TZID=Europe/Paris:20230405T190000
DTSTAMP:20260421T061004
CREATED:20230328T220102Z
LAST-MODIFIED:20230330T151219Z
UID:1106-1680717600-1680721200@pakitastudio.com
SUMMARY:Ipuin kontaketa
DESCRIPTION:Amesgile Argitaletxearen eskutik ipuin kontaketa antolatu dugu estudioan. Lehen edizioan Musuak eta besarkadak liburuak izandako harrera dela eta\, Musu eta besarkada magikoak liburua aurkeztera eta kontatzera etorriko da Betzaida eta ondoren bertan egongo da bere lan guztiak saltzen. Hurbildu bertara\, goiz goxo bat pasako dugu. \nDoakoa izango da\, baina izena eman behar da\, aforoa bete arte. Horretarako idatzi p.kitastudio@gmail.com helbidera. \nAdin guztietara egokitua.
URL:https://pakitastudio.com/ekitaldiak/ipuin-kontaketa-3
LOCATION:Pakita Studio\, Andre Kalea 41\, Hernani\, Gipuzkoa\, 20120\, España
CATEGORIES:Jardunaldia
ATTACH;FMTTYPE=image/jpeg:https://pakitastudio.com/wp-content/uploads/2023/03/Amesgile-ipuin-kontaketa-Recuperado-02-scaled.jpg
ORGANIZER;CN="Pakita Studio":MAILTO:p.kitastudio@gmail.com
END:VEVENT
BEGIN:VEVENT
DTSTART;VALUE=DATE:20230327
DTEND;VALUE=DATE:20230509
DTSTAMP:20260421T061004
CREATED:20230327T153539Z
LAST-MODIFIED:20230327T213612Z
UID:1098-1679875200-1683590399@pakitastudio.com
SUMMARY:M.Art erakusketa
DESCRIPTION:Martxoa amaieratik\, apirila guztian zehar eta maiatza hasierara arte M.Art artistaren erakusketa daukagu estudioko paretetan. Marta\, Iruñeako ilustratzailea da\, bere collageengatik ezaguna. Bere hamaika lan izango ditugu estudioan zintzilik\, lamina formatuan. Batzuk lehendik publikatuak eta beste batzuk labetik atera berriak. \nDenda irekita dagoen orduetan ikusgai egongo da erakusketa. \nBertako lanak salgai daude.
URL:https://pakitastudio.com/ekitaldiak/m-art-erakusketa
LOCATION:Pakita Studio\, Andre Kalea 41\, Hernani\, Gipuzkoa\, 20120\, España
CATEGORIES:Erakusketa
ATTACH;FMTTYPE=image/jpeg:https://pakitastudio.com/wp-content/uploads/2023/03/BODY-PAINTING-02-scaled.jpg
ORGANIZER;CN="Pakita Studio":MAILTO:p.kitastudio@gmail.com
END:VEVENT
BEGIN:VEVENT
DTSTART;TZID=Europe/Paris:20221226T110000
DTEND;TZID=Europe/Paris:20221226T120000
DTSTAMP:20260421T061004
CREATED:20221124T170336Z
LAST-MODIFIED:20221124T170336Z
UID:1069-1672052400-1672056000@pakitastudio.com
SUMMARY:Ipuin kontaketa
DESCRIPTION:Neguko oporren giroan eta Amesgile Argitaletxearen eskutik ipuin kontaketa antolatu dugu estudioan. Betzaidak berak idatzitako ipuinak kontatuko dizkigu\, gaunera labetik atera berriak! Ondoren\, bertan egongo da bere lan guztiak saltzen. Hurbildu bertara\, goiz goxo bat pasako dugu. \nDoakoa da\, baina izena eman behar da\, aforoa bete arte. Horretarako idatzi p.kitastudio@gmail.com helbidera.
URL:https://pakitastudio.com/ekitaldiak/ipuin-kontaketa-2
LOCATION:Pakita Studio\, Andre Kalea 41\, Hernani\, Gipuzkoa\, 20120\, España
CATEGORIES:Jardunaldia
ATTACH;FMTTYPE=image/jpeg:https://pakitastudio.com/wp-content/uploads/2022/11/Amesgile-ipuin-kontaketa-copia-3-scaled.jpg
END:VEVENT
BEGIN:VEVENT
DTSTART;TZID=Europe/Paris:20221223T170000
DTEND;TZID=Europe/Paris:20221223T193000
DTSTAMP:20260421T061004
CREATED:20221214T104020Z
LAST-MODIFIED:20221214T104020Z
UID:1087-1671814800-1671823800@pakitastudio.com
SUMMARY:Flash Collage
DESCRIPTION:Opari pertsonalizatu bat egin nahiko zenuke eta zu zeu prozesuaren parte izan? \nFlash Collage saioa aukera on bat izan daiteke. Aukeratu zure gustoko argazki bat (digitalki ekarri beharko duzu) eta Uxuerekin (Berexi Art) batera collagea egingo duzu. Ilustrazioaren prozesua lehen pertsonan biziko dugu. Honen konposizioa\, koloreak eta formak aukeratzeko prozesuak parte-hartze aktiboa izango duzu. Eta animatuko bazina\, ilustrazioari ekarpen propioa egiteko aukera izango duzu! \nPrezioa : \n25€ ilustrazioa digitalean egunean bertan emateko aukera \n30€ ilustrazioa hurrengo egunean estudioan inprimatuta jasotzeko aukera \nErreserba egin behar da p.kitastudio@gmail.com heladera idatzita. \nIKUSI ADIBIDEAK HEMEN
URL:https://pakitastudio.com/ekitaldiak/flash-collage
LOCATION:Pakita Studio\, Andre Kalea 41\, Hernani\, Gipuzkoa\, 20120\, España
CATEGORIES:Tailerra
ATTACH;FMTTYPE=image/jpeg:https://pakitastudio.com/wp-content/uploads/2022/12/Ilustracion-sin-titulo-3-scaled.jpg
ORGANIZER;CN="Berexi Art":MAILTO:berexi.art@gmail.com
END:VEVENT
BEGIN:VEVENT
DTSTART;TZID=Europe/Paris:20221203T120000
DTEND;TZID=Europe/Paris:20221203T140000
DTSTAMP:20260421T061004
CREATED:20221124T171244Z
LAST-MODIFIED:20221124T171244Z
UID:1074-1670068800-1670076000@pakitastudio.com
SUMMARY:Kosmetika naturalen ikastaroa
DESCRIPTION:Koloreztaturekin batera\, kosmetika naturalen ikastaroa antolatu dugu. Bertan\, produktu ezberdinak egiten ikasiko dugu. Erabilera ezberdinetarako xaboiak\, txanpuak\, kremak edota desodoranteak. \nIkasitako hauen artean produktu batzuk guk geuk etxera emateko aukera izango dugu. Guk geuk egindako txanpua\, krema eta desodoeantea eramango ditugu etxera gure erabilera propiorako! \nPrezioa: 30€ \nSaioan parte hartzeko izena eman behar da: p.kitastudio@gmail.com
URL:https://pakitastudio.com/ekitaldiak/kosmetika-naturalen-ikastaroa
LOCATION:Pakita Studio\, Andre Kalea 41\, Hernani\, Gipuzkoa\, 20120\, España
CATEGORIES:Tailerra
ATTACH;FMTTYPE=image/jpeg:https://pakitastudio.com/wp-content/uploads/2022/11/koloreztatu-scaled.jpg
ORGANIZER;CN="Pakita Studio":MAILTO:p.kitastudio@gmail.com
END:VEVENT
BEGIN:VEVENT
DTSTART;TZID=Europe/Paris:20221119T110000
DTEND;TZID=Europe/Paris:20221119T120000
DTSTAMP:20260421T061004
CREATED:20221114T080733Z
LAST-MODIFIED:20221114T081159Z
UID:1057-1668855600-1668859200@pakitastudio.com
SUMMARY:Korapiloak liburuaren aurkezpena
DESCRIPTION:Behin baino gehiagotan ipuin kontalari moduan izan dugun Amesgile Argitaletxeko Betzaida Urtaza etorriko zaigu estudiora bere gaztetxoentzako eta helduentzako nobelatxoa aurkeztera. Bertan\, egunerokoan oso presente dauden gaiak jorratzen ditu: antsietatea\, depresioa\, sexua\, nerabezaroa\, LGTBI errealitatea… Liburuan parte hartu duen Maitane Ormazabal coacha ere egongo da aurkezpenean. \n12 urtetik gorako gazteentzat eta helduentzat bideratutako saioa izango da. \nIzena eman behar da: p.kitastudio@gmail.com / 943 94 77 58
URL:https://pakitastudio.com/ekitaldiak/korapiloak-liburuaren-aurkezpena
LOCATION:Pakita Studio\, Andre Kalea 41\, Hernani\, Gipuzkoa\, 20120\, España
CATEGORIES:Jardunaldia
ATTACH;FMTTYPE=image/jpeg:https://pakitastudio.com/wp-content/uploads/2022/11/Amesgile-ipuin-kontaketa-copia-scaled.jpg
END:VEVENT
BEGIN:VEVENT
DTSTART;VALUE=DATE:20221101
DTEND;VALUE=DATE:20230101
DTSTAMP:20260421T061004
CREATED:20221114T083137Z
LAST-MODIFIED:20221230T104714Z
UID:1065-1667260800-1672531199@pakitastudio.com
SUMMARY:Arramazka erakusketa
DESCRIPTION:Azaroa eta abendua guztian zehar Arramazkaren erakusketa daukagu estudioko paretetan. Arramazka\, Hernanin bizi da aspaldidanik eta ilustratzaile ezaguna da Euskal Herri mailan. Ilustrazio proiektua komertzialki duela urte batzuk utzi bazuen ere\, oraindik sorkuntza batzuk egiten jarraitzen du. Horrela\, aurretik eginda zituen ilustrazioekin bai eta berriekin ere osatuta dago erakusketa. \nDenda dagoen orduetan ikusgai egongo da erakusketa. \nBertako lanak salgai daude.
URL:https://pakitastudio.com/ekitaldiak/arramazka-erakusketa
LOCATION:Pakita Studio\, Andre Kalea 41\, Hernani\, Gipuzkoa\, 20120\, España
CATEGORIES:Erakusketa
ATTACH;FMTTYPE=image/jpeg:https://pakitastudio.com/wp-content/uploads/2022/11/ARRAMAZKA-ILUS-scaled.jpg
ORGANIZER;CN="Pakita Studio":MAILTO:p.kitastudio@gmail.com
END:VEVENT
BEGIN:VEVENT
DTSTART;TZID=Europe/Paris:20220825T170000
DTEND;TZID=Europe/Paris:20220825T190000
DTSTAMP:20260421T061004
CREATED:20220817T074537Z
LAST-MODIFIED:20221114T081047Z
UID:1020-1661446800-1661454000@pakitastudio.com
SUMMARY:Body painting saioa
DESCRIPTION:Body painting saio honetan gorputzaren bidez sormena esperimentatzea da helburua. Talde txiki bat sortu  eta espazio goxo eta seguru bat sortuko dugu. Giro atsegin batekin\, elkarren artean gorputza pintatzea da saio hauetan egingo dena\, lehenik konfiantza ariketa batzuk egin eta gero. \n– Gorputzaren jabetza\n– Sorkuntzaren dimentsioak\n– Esperimentazioa\n– Talde identitatea \nTalde txikia izango denez\, izena ematea beharrezkoa da. \nIZEN EMATEA HEMEN
URL:https://pakitastudio.com/ekitaldiak/body-painting-saioa
LOCATION:Pakita Studio\, Andre Kalea 41\, Hernani\, Gipuzkoa\, 20120\, España
CATEGORIES:Tailerra
ATTACH;FMTTYPE=image/jpeg:https://pakitastudio.com/wp-content/uploads/2022/08/body-painting-marrazkia-scaled.jpg
ORGANIZER;CN="Pakita Studio":MAILTO:p.kitastudio@gmail.com
END:VEVENT
BEGIN:VEVENT
DTSTART;TZID=Europe/Paris:20220710T110000
DTEND;TZID=Europe/Paris:20220710T130000
DTSTAMP:20260421T061004
CREATED:20220704T112947Z
LAST-MODIFIED:20220704T113144Z
UID:904-1657450800-1657458000@pakitastudio.com
SUMMARY:Ipuin kontaketa
DESCRIPTION:Amesgile Argitaletxearen eskutik ipuin kontaketa antolatu dugu berriro ere estudioan. Betzaidak berak idatzitako ipuinak kontatuko dizkigu eta ondoren bertan egongo da bere lan guztiak saltzen. Hurbildu bertara\, goiz goxo bat pasako dugu. \nDoakoa izango da\, baina izena eman behar da\, aforoa bete arte. Horretarako idatzi p.kitastudio@gmail.com helbidera. \n11.00-11.30\n2-3 urte arteko haurrentzat \n12.00-13.00\n4 urtetik gorako haurrentzat
URL:https://pakitastudio.com/ekitaldiak/ipuinkontaketa-uztaila
LOCATION:Pakita Studio\, Andre Kalea 41\, Hernani\, Gipuzkoa\, 20120\, España
CATEGORIES:Jardunaldia
ATTACH;FMTTYPE=image/jpeg:https://pakitastudio.com/wp-content/uploads/2022/07/Amesgile-ipuin-kontaketa-irudia-scaled.jpg
ORGANIZER;CN="Pakita Studio":MAILTO:p.kitastudio@gmail.com
END:VEVENT
BEGIN:VEVENT
DTSTART;TZID=Europe/Paris:20220423T100000
DTEND;TZID=Europe/Paris:20220423T130000
DTSTAMP:20260421T061004
CREATED:20220317T130612Z
LAST-MODIFIED:20220317T140323Z
UID:870-1650708000-1650718800@pakitastudio.com
SUMMARY:Ipuin kontaketa
DESCRIPTION:Amesgile Argitaletxearen eskutik ipuin kontaketa antolatu dugu estudioan. Betzaidak berak idatzitako ipuinak kontatuko dizkigu eta ondoren bertan egongo da bere lan guztiak saltzen. Hurbildu bertara\, goiz goxo bat pasako dugu. \nDoakoa izango da\, baina izena eman behar da\, aforoa bete arte. Horretarako idatzi p.kitastudio@gmail.com helbidera. \n11.00-11.30\n2-3 urte arteko haurrentzat \n12.00-13.00\n4 urtetik gorako haurrentzat
URL:https://pakitastudio.com/ekitaldiak/ipuin-kontaketa
LOCATION:Pakita Studio\, Andre Kalea 41\, Hernani\, Gipuzkoa\, 20120\, España
CATEGORIES:Jardunaldia
ATTACH;FMTTYPE=image/jpeg:https://pakitastudio.com/wp-content/uploads/2022/03/Amesgile-ipuin-konta-scaled.jpg
ORGANIZER;CN="Pakita Studio":MAILTO:p.kitastudio@gmail.com
END:VEVENT
BEGIN:VEVENT
DTSTART;VALUE=DATE:20220413
DTEND;VALUE=DATE:20220430
DTSTAMP:20260421T061004
CREATED:20220411T105509Z
LAST-MODIFIED:20220503T142604Z
UID:893-1649808000-1651276799@pakitastudio.com
SUMMARY:Marrazki lehiaketa
DESCRIPTION:Marrazki lehiaketa antolatu dugu! \n\n\nOpor garai honetarako gaztetxoenei sorkuntzarako aitzakia bat eman nahi diegu. 5-12 urte  arteko haurrentzat da lehiaketa\, bi kategoriatan banatuta. 1. Kategoria 5-8 urteko haurrentzat eta 2. kategoria 9-12 urtekoentzat. \n\n\nIRIZPIDEAK \nGaia:Poza \nEpea: Lehiaketa apirilaren 13an hasiko da eta lanak aurkezteko epea apirilaren 29an amaituko da. Sarituak apirilaren 30an jakinaraziko dira. \nLanak aurkezteko modua: Aurkezteko bi modu daude. Batetik\, eskura. Pakita Studioan bertan aurkeztu dezakezue denda irekita dagoen orduetan edota atean dagoen buzoian utzita. Bestetik\, online bidali dezakezue marrazkiaren argazkia kalitate altuan. \nSaria: Kategoria bakoitzean saritu bat egongo da eta Pakita Studioko produktu sorta jasoko dute. \n\n  \nSARITUAK  \nZozketa bidez hautatu dira lehiaketako sarituak. Kategoria bakoitzeko irabazleak Pakita Studioko produktu sorta bat jasoko du.\n1. kategoria: Iare Irastorza\n2. kategoria: Maddi Sanchez \nMila esker parte hartu duzuen guztiei!
URL:https://pakitastudio.com/ekitaldiak/marrazki-lehiaketa
LOCATION:Pakita Studio\, Andre Kalea 41\, Hernani\, Gipuzkoa\, 20120\, España
CATEGORIES:Lehiaketa
ATTACH;FMTTYPE=image/jpeg:https://pakitastudio.com/wp-content/uploads/2022/04/marrazki-le-scaled.jpg
ORGANIZER;CN="Pakita Studio":MAILTO:p.kitastudio@gmail.com
END:VEVENT
BEGIN:VEVENT
DTSTART;TZID=Europe/Paris:20220326T100000
DTEND;TZID=Europe/Paris:20220326T110000
DTSTAMP:20260421T061004
CREATED:20220314T215252Z
LAST-MODIFIED:20220322T095304Z
UID:837-1648288800-1648292400@pakitastudio.com
SUMMARY:Sormenarekin jolasten • BETETA
DESCRIPTION:Haziak Elkartearekin batera Sormentarekin Jolasten sorkuntza saioa antolatu dugu Pakita Studion. Sorkuntzarekin jolastuko dugu haur zein heldu. Materialekin esperimentatu\, zikindu\, orri zuri handi bat kolorez bete\, eta haurrak eta helduak elkarren arteko momentu kreatibo batean elkar lotu.\nAnimatuko zara? \n2 urtetik gora haur eta hauen gurasoentzat (heldu bakarra)\nIzena ematea irekita plazak bete arte
URL:https://pakitastudio.com/ekitaldiak/sormenarekin-jolasten-tailerra-2
LOCATION:Pakita Studio\, Andre Kalea 41\, Hernani\, Gipuzkoa\, 20120\, España
CATEGORIES:Tailerra
ATTACH;FMTTYPE=image/jpeg:https://pakitastudio.com/wp-content/uploads/2022/03/20211211_114200.jpg
ORGANIZER;CN="Pakita Studio":MAILTO:p.kitastudio@gmail.com
END:VEVENT
BEGIN:VEVENT
DTSTART;TZID=Europe/Paris:20220319T100000
DTEND;TZID=Europe/Paris:20220319T110000
DTSTAMP:20260421T061004
CREATED:20220314T211054Z
LAST-MODIFIED:20220315T102625Z
UID:832-1647684000-1647687600@pakitastudio.com
SUMMARY:Sormenarekin jolasten • BETETA
DESCRIPTION:Haziak Elkartearekin batera Sormentarekin Jolasten sorkuntza saioa antolatu dugu Pakita Studion. Sorkuntzarekin jolastuko dugu haur zein heldu. Materialekin esperimentatu\, zikindu\, orri zuri handi bat kolorez bete\, eta haurrak eta helduak elkarren arteko momentu kreatibo batean elkar lotu.\nAnimatuko zara? \n2 urtetik gora haur eta hauen gurasoentzat (heldu bakarra)\nIzena ematea irekita plazak bete arte
URL:https://pakitastudio.com/ekitaldiak/sormenarekin-jolasten-tailerra
LOCATION:Pakita Studio\, Andre Kalea 41\, Hernani\, Gipuzkoa\, 20120\, España
CATEGORIES:Tailerra
ATTACH;FMTTYPE=image/jpeg:https://pakitastudio.com/wp-content/uploads/2022/03/DSC04391-1.jpg
ORGANIZER;CN="Pakita Studio":MAILTO:p.kitastudio@gmail.com
END:VEVENT
BEGIN:VEVENT
DTSTART;VALUE=DATE:20220101
DTEND;VALUE=DATE:20220404
DTSTAMP:20260421T061004
CREATED:20220216T151019Z
LAST-MODIFIED:20220314T191600Z
UID:803-1640995200-1649030399@pakitastudio.com
SUMMARY:41 habitat • Azken habitatak
DESCRIPTION:Berexi Arten 41 habitat proiektuari amaiera emanaz\, kolekzioaren azken lanak erakusgai daude Pakita Studion. Proiektuko lanak salgai egon dira erakusketak hasi zirenetik\, erakusketa hauek amaituta\, hauen azken habitatak estudioko paretetan daude nahi duenak ikus ditzan. \nHemen ere\, obrak salgai daude nahi duenarentzat. \n  \n41 habitat \nBerrogeita bat habitatek hortaz hitz egiten du\, ezta? Berrogeita bat habitatez. Berrogeita bat ekosistemaz\, mikroklimaz\, espazioz. Gorputza erdigunean jarri dut\, Berexi Arten baitan sortu ohi ditudan lan gehienetan bezala. Hogeita hemeretzi emakume ilustratu ditut\, beraien lore\, belar\, xomorro eta klima aldaketekin. Beste habitat  batzuekin lotzen\, ekosistema berriak sortzen edo habitat propioa zaintzen. \nErrealitate ezberdin eta anitzak bilatu ditut. Emakume bakoitzari izen bat jarri. Eta hauek marrazten nebilenean beraien izana imajinatu dut. Zenbat aldiz egin duen euria beraien baitan\, eta zenbatetan hartu dion gorputza belar busti usain gozoak. Zenbat xomorro biziko diren bere barruan\, eta zeintzuk desagertu ote diren. Ariketa hau egitea nahiko nuke ikusleak. Gorputza eta izena jarri diet nik emakume hauei\, ikusleak hauei begira bizitza bat sortzea nahiko nuke. Imajinazioarekin jolastea. Bakoitzak habitat bakoitzean gertatu dena eta gertatzen ari dena sortzea.
URL:https://pakitastudio.com/ekitaldiak/41-habitat-azken-habitatak
LOCATION:Pakita Studio\, Andre Kalea 41\, Hernani\, Gipuzkoa\, 20120\, España
CATEGORIES:Erakusketa
ATTACH;FMTTYPE=image/jpeg:https://pakitastudio.com/wp-content/uploads/2022/02/Berexi-Art-3-scaled.jpg
ORGANIZER;CN="Pakita Studio":MAILTO:p.kitastudio@gmail.com
END:VEVENT
END:VCALENDAR